BEGIN:VCALENDAR
X-WR-TIMEZONE:Europe/Berlin
X-WR-CALNAME:rbb-Kalender
VERSION:2.0
METHOD:PUBLISH
CALSCALE:GREGORIAN
PRODID:rbb-CMS DAY
BEGIN:VEVENT
CLASS:PUBLIC
URL:http://www.rbb-online.de/content/rbb/rbb/zibb/service/kulinarisches/spargel_zum_pfingstfest.html
DTEND:20130515T183000
DTSTART:20130515T183000
UID:/content/rbb/rbb/zibb/service/kulinarisches/spargel_zum_pfingstfest
DTSTAMP:20140407T154841
DESCRIPTION:Auch Sternekoch Marco Müller serviert zu Pfingsten gern Spargel. Er hat einige besondere Tricks, damit die Stangen saftig, knackig und dabei besonders aromatisch garen.
SUMMARY:Spargel zum Pfingstfest
END:VEVENT
END:VCALENDAR
