BEGIN:VCALENDAR
X-WR-TIMEZONE:Europe/Berlin
X-WR-CALNAME:rbb-Kalender
VERSION:2.0
METHOD:PUBLISH
CALSCALE:GREGORIAN
PRODID:rbb-CMS DAY
BEGIN:VEVENT
CLASS:PUBLIC
URL:http://www.rbb-online.de/content/rbb/rbb/zibb/service/kulinarisches/vitamine.html
DTEND:20131002T192500
DTSTART:20131002T183000
UID:/content/rbb/rbb/zibb/service/kulinarisches/vitamine
DTSTAMP:20140406T193234
DESCRIPTION:Vitamine halten gesund. Doch Licht, Luft, Hitze und auch Wasser zerstören die Fitmacher. Wie halten die Vitamine also am besten? \n
SUMMARY:Vitamine
END:VEVENT
END:VCALENDAR
