BEGIN:VCALENDAR
X-WR-TIMEZONE:Europe/Berlin
X-WR-CALNAME:rbb-Kalender
VERSION:2.0
METHOD:PUBLISH
CALSCALE:GREGORIAN
PRODID:rbb-CMS DAY
BEGIN:VEVENT
CLASS:PUBLIC
URL:http://www.rbb-online.de/content/rbb/rbb/zibb/service/lifestyle/die_neuen_wohntrends.html
DTEND:20130426T183000
DTSTART:20130426T183000
UID:/content/rbb/rbb/zibb/service/lifestyle/die_neuen_wohntrends
DTSTAMP:20140407T154537
DESCRIPTION:Wenn der Frühling draußen alles bunt macht, ist auch Zuhause Zeit für einen neuen Anstrich. Aber es muss ja nicht immer weiß sein! Mit ein bisschen Farbe lässt sich aus langweiligen Wänden ein frischer Frühlingslook zaubern.\n
SUMMARY:Die neuen Wohntrends
END:VEVENT
END:VCALENDAR
