BEGIN:VCALENDAR
X-WR-TIMEZONE:Europe/Berlin
X-WR-CALNAME:rbb-Kalender
VERSION:2.0
METHOD:PUBLISH
CALSCALE:GREGORIAN
PRODID:rbb-CMS DAY
BEGIN:VEVENT
CLASS:PUBLIC
URL:http://www.rbb-online.de/content/rbb/rbb/zibb/service/lifestyle/faire-kleidung.html
DTEND:20130913T192500
DTSTART:20130913T183000
UID:/content/rbb/rbb/zibb/service/lifestyle/faire-kleidung
DTSTAMP:20140406T220613
DESCRIPTION:Fair gehandelte Produkte, das kennt man von Kaffee und Schokolade. Doch spätestens seit im April eine Textilfabrik in Bangladesch einstürzte und über 1100 Menschen starben, stehen die Produktionsbedingungen unserer Kleidung im Fokus der Aufmerksamkeit.\n
SUMMARY:Faire Kleidung
END:VEVENT
END:VCALENDAR
