BEGIN:VCALENDAR
X-WR-TIMEZONE:Europe/Berlin
X-WR-CALNAME:rbb-Kalender
VERSION:2.0
METHOD:PUBLISH
CALSCALE:GREGORIAN
PRODID:rbb-CMS DAY
BEGIN:VEVENT
CLASS:PUBLIC
URL:http://www.rbb-online.de/content/rbb/rbb/zibb/service/lifestyle/kampfsportkuenstler.html
DTEND:20130807T192500
DTSTART:20130807T183000
UID:/content/rbb/rbb/zibb/service/lifestyle/kampfsportkuenstler
DTSTAMP:20140407T155246
DESCRIPTION:Zu Gast im Sommergarten sind 25 Kinder, Jugendliche und Erwachsene des "Zentrums für Chinesische Heil- und Kampfkünste" in Potsdam.\n\n\n
SUMMARY:Kampfsportkünstler
END:VEVENT
END:VCALENDAR
