BEGIN:VCALENDAR
X-WR-TIMEZONE:Europe/Berlin
X-WR-CALNAME:rbb-Kalender
VERSION:2.0
METHOD:PUBLISH
CALSCALE:GREGORIAN
PRODID:rbb-CMS DAY
BEGIN:VEVENT
CLASS:PUBLIC
URL:http://www.rbb-online.de/content/rbb/rbb/zibb/service/lifestyle/stressfrei-umziehen.html
DTEND:20130815T192500
DTSTART:20130815T183000
UID:/content/rbb/rbb/zibb/service/lifestyle/stressfrei-umziehen
DTSTAMP:20140407T155415
DESCRIPTION:In Deutschland ziehen jedes Jahr rund fünf Millionen Haushalte um. Wer schon einmal seinen Wohnort gewechselt hat, weiß, wie nervig und teuer das werden kann. \n
SUMMARY:Stressfrei umziehen
END:VEVENT
END:VCALENDAR
