BEGIN:VCALENDAR
X-WR-TIMEZONE:Europe/Berlin
X-WR-CALNAME:rbb-Kalender
VERSION:2.0
METHOD:PUBLISH
CALSCALE:GREGORIAN
PRODID:rbb-CMS DAY
BEGIN:VEVENT
CLASS:PUBLIC
URL:http://www.rbb-online.de/content/rbb/rbb/zibb/service/lifestyle/teilen_statt_besitzen.html
DTEND:20130513T183000
DTSTART:20130513T183000
UID:/content/rbb/rbb/zibb/service/lifestyle/teilen_statt_besitzen
DTSTAMP:20140407T154919
DESCRIPTION:Das Protzen mit Statussymbolen war gestern. Shareconomy ist der neue Trend. Teilen, leihen und mieten. Das Bewusstsein dafür, Dinge gemeinsam zu nutzen statt sie zu besitzen, wird immer größer. Mehr dazu im Service.\n
SUMMARY:Teilen statt Besitzen
END:VEVENT
END:VCALENDAR
