BEGIN:VCALENDAR
X-WR-TIMEZONE:Europe/Berlin
X-WR-CALNAME:rbb-Kalender
VERSION:2.0
METHOD:PUBLISH
CALSCALE:GREGORIAN
PRODID:rbb-CMS DAY
BEGIN:VEVENT
CLASS:PUBLIC
URL:http://www.rbb-online.de/content/rbb/rbb/zibb/service/lifestyle/trekkingstiefel.html
DTEND:20130725T183000
DTSTART:20130725T183000
UID:/content/rbb/rbb/zibb/service/lifestyle/trekkingstiefel
DTSTAMP:20140407T155216
DESCRIPTION:Robust, stabil und bequem sollten gute Trekkingstiefel sein. Sie müssen Knöchel und Füße schützen, stützen und trocken halten – auf befestigten Wegen genauso wie auf Geröll und unwegsamen Terrain. Stiftung Warentest hat 15 Paare zu Preisen von 20 bis 230 Euro im Gelände und im Labor geprüft.
SUMMARY:Trekkingstiefel
END:VEVENT
END:VCALENDAR
