BEGIN:VCALENDAR
X-WR-TIMEZONE:Europe/Berlin
X-WR-CALNAME:rbb-Kalender
VERSION:2.0
METHOD:PUBLISH
CALSCALE:GREGORIAN
PRODID:rbb-CMS DAY
BEGIN:VEVENT
CLASS:PUBLIC
URL:http://www.rbb-online.de/content/rbb/rbb/zibb/service/lifestyle/voegel-im-winter.html
DTEND:20131127T192500
DTSTART:20131127T183000
UID:/content/rbb/rbb/zibb/service/lifestyle/voegel-im-winter
DTSTAMP:20140406T233600
DESCRIPTION:Um im Winter ihre Körpertemperatur halten zu können, sind Nistkästen für Vögel  unverzichtbar. Der Spätherbst ist die ideale Zeit, sie aufzuhängen. Das Angebot ist riesig und jeder Vogel bevorzugt eine andere Art von Nistplätzen. zibb gibt Tipps.\n
SUMMARY:Service: Ein Herz für Vögel
END:VEVENT
END:VCALENDAR
