BEGIN:VCALENDAR
X-WR-TIMEZONE:Europe/Berlin
X-WR-CALNAME:rbb-Kalender
VERSION:2.0
METHOD:PUBLISH
CALSCALE:GREGORIAN
PRODID:rbb-CMS DAY
BEGIN:VEVENT
CLASS:PUBLIC
URL:http://www.rbb-online.de/content/rbb/rbb/zibb/service/recht/datenschutz.html
DTEND:20130904T192500
DTSTART:20130904T183000
UID:/content/rbb/rbb/zibb/service/recht/datenschutz
DTSTAMP:20140406T223822
DESCRIPTION:Unsere persönlichen Daten sind eine heißbegehrte Ware. Das ist vielen Verbrauchern spätestens seit dem NSA-Skandal klar. Doch selbst wer nicht Mitglied eines sozialen Netzwerkes wie Facebook ist und Interneteinkäufe meidet, ist vor Datensammlern nicht sicher. Doch wie kann man sich schützen?\n
SUMMARY:Datenschutz 
END:VEVENT
END:VCALENDAR
