BEGIN:VCALENDAR
X-WR-TIMEZONE:Europe/Berlin
X-WR-CALNAME:rbb-Kalender
VERSION:2.0
METHOD:PUBLISH
CALSCALE:GREGORIAN
PRODID:rbb-CMS DAY
BEGIN:VEVENT
CLASS:PUBLIC
URL:http://www.rbb-online.de/content/rbb/rbb/zibb/service/recht/hausrat.html
DTEND:20140318T192500
DTSTART:20140318T183000
UID:/content/rbb/rbb/zibb/service/recht/hausrat
DTSTAMP:20140406T222333
DESCRIPTION:Ob Diebstahl, Brand oder Wasserschaden: Eine gute Hausratversicherung springt im Fall der Fälle ein. Was aber immer lohnt: Ein Preisvergleich für die Hausratversicherungspolice. Oft ist eine Ersparnis von einigen hundert Euro drin, wie jetzt Finanztest in einem aktuellen Vergleich feststellte.\n
SUMMARY:Hausratversicherung
END:VEVENT
END:VCALENDAR
