BEGIN:VCALENDAR
X-WR-TIMEZONE:Europe/Berlin
X-WR-CALNAME:rbb-Kalender
VERSION:2.0
METHOD:PUBLISH
CALSCALE:GREGORIAN
PRODID:rbb-CMS DAY
BEGIN:VEVENT
CLASS:PUBLIC
URL:http://www.rbb-online.de/content/rbb/rbb/zibb/service/recht/neues_mietrecht_erleichtert.html
DTEND:20130410T183000
DTSTART:20130410T183000
UID:/content/rbb/rbb/zibb/service/recht/neues_mietrecht_erleichtert
DTSTAMP:20140407T155007
DESCRIPTION:Vermieter dürfen zukünftig die Haltung von Hunden und Katzen nicht pauschal verbieten, aber was heißt dies konkret? Wie Tierliebhaber jetzt vorgehen sollten, erklärt Ulrich Ropertz vom Deutschen Mieterbund.
SUMMARY:Neues Mietrecht erleichtert Tierhaltung
END:VEVENT
END:VCALENDAR
