BEGIN:VCALENDAR
X-WR-TIMEZONE:Europe/Berlin
X-WR-CALNAME:rbb-Kalender
VERSION:2.0
METHOD:PUBLISH
CALSCALE:GREGORIAN
PRODID:rbb-CMS DAY
BEGIN:VEVENT
CLASS:PUBLIC
URL:http://www.rbb-online.de/content/rbb/rbb/zibb/service/recht/schnaeppchen_im_internet.html
DTEND:20130610T183000
DTSTART:20130610T183000
UID:/content/rbb/rbb/zibb/service/recht/schnaeppchen_im_internet
DTSTAMP:20140407T160550
DESCRIPTION:Ob Kleidung, Schuhe, elektronische Artikel oder Möbel – Shopping-Clubs im Internet werben mit Schnäppchenpreisen. Doch viele Verbraucher wissen nicht um Rechte und Risiken beim Online-Kauf. Das zeigt eine aktuelle Studie im Auftrag der Verbraucherzentrale.
SUMMARY:Schnäppchen im Internet
END:VEVENT
END:VCALENDAR
