BEGIN:VCALENDAR
X-WR-TIMEZONE:Europe/Berlin
X-WR-CALNAME:rbb-Kalender
VERSION:2.0
METHOD:PUBLISH
CALSCALE:GREGORIAN
PRODID:rbb-CMS DAY
BEGIN:VEVENT
CLASS:PUBLIC
URL:http://www.rbb-online.de/content/rbb/rbb/zibb/service/technik/action-cams.html
DTEND:20131111T192500
DTSTART:20131111T183000
UID:/content/rbb/rbb/zibb/service/technik/action-cams
DTSTAMP:20140406T041236
DESCRIPTION:Die rasante Skiabfahrt, der Sprung mit dem Fallschirm: Solche spektakulären Bilder lassen sich mit Hilfe von Action-Camcordern aus der Perspektive des Sportlers drehen. Befestigt an Fahrradlenker, Skihelm oder Surfboard halten die Minikameras jedes Abenteuer fest. Die Stiftung Warentest hat vierzehn Modelle geprüft.\n
SUMMARY:Action-Camcorder 
END:VEVENT
END:VCALENDAR
