BEGIN:VCALENDAR
X-WR-TIMEZONE:Europe/Berlin
X-WR-CALNAME:rbb-Kalender
VERSION:2.0
METHOD:PUBLISH
CALSCALE:GREGORIAN
PRODID:rbb-CMS DAY
BEGIN:VEVENT
CLASS:PUBLIC
URL:http://www.rbb-online.de/content/rbb/rbb/zibb/service/technik/dsl-tarife-im-test.html
DTEND:20130830T192500
DTSTART:20130830T183000
UID:/content/rbb/rbb/zibb/service/technik/dsl-tarife-im-test
DTSTAMP:20140407T160321
DESCRIPTION:Mit DSL-Tarifen fürs Surfen und Telefonieren kassieren die Anbieter kräftig ab. Vor allem im Kleingedruckten wartet für die Verbraucher so manche Überraschung. Die Stiftung Warentest untersuchte Telefon- und Kabelanbieter\n\n\n
SUMMARY:Zu teuer ins Netz! – DSL-Tarife im Test
END:VEVENT
END:VCALENDAR
