BEGIN:VCALENDAR
X-WR-TIMEZONE:Europe/Berlin
X-WR-CALNAME:rbb-Kalender
VERSION:2.0
METHOD:PUBLISH
CALSCALE:GREGORIAN
PRODID:rbb-CMS DAY
BEGIN:VEVENT
CLASS:PUBLIC
URL:http://www.rbb-online.de/content/rbb/rbb/zibb/service/technik/motocross.html
DTEND:20130709T183000
DTSTART:20130709T183000
UID:/content/rbb/rbb/zibb/service/technik/motocross
DTSTAMP:20140407T160404
DESCRIPTION:Die zweifache Europa- und Vizeweltmeisterin Heike Petrick und Nachwuchs-Motocrosser aus Spremberg waren am Dienstag zu Gast im Sommergarten. zibb wollte wissen, worauf es bei diesem Sport ankommt, welche Risiken und welcher Spaß dahinter steckt.
SUMMARY:Motocross
END:VEVENT
END:VCALENDAR
