BEGIN:VCALENDAR
X-WR-TIMEZONE:Europe/Berlin
X-WR-CALNAME:rbb-Kalender
VERSION:2.0
METHOD:PUBLISH
CALSCALE:GREGORIAN
PRODID:rbb-CMS DAY
BEGIN:VEVENT
CLASS:PUBLIC
URL:http://www.rbb-online.de/content/rbb/rbb/zibb/service/technik/service-smartphones.html
DTEND:20140204T192500
DTSTART:20140204T183000
UID:/content/rbb/rbb/zibb/service/technik/service-smartphones
DTSTAMP:20140406T223645
DESCRIPTION:Allein im vergangenen Jahr wurden in Deutschland 26 Millionen Smartphones verkauft. Fünfmal so viele wie vor fünf Jahren. Längst hat das bekannte I Phone extrem starke Konkurrenz bekommen. zibb hat die Testergebnisse.\n\n\n
SUMMARY:Smartphones im Test 
END:VEVENT
END:VCALENDAR
