BEGIN:VCALENDAR
X-WR-TIMEZONE:Europe/Berlin
X-WR-CALNAME:rbb-Kalender
VERSION:2.0
METHOD:PUBLISH
CALSCALE:GREGORIAN
PRODID:rbb-CMS DAY
BEGIN:VEVENT
CLASS:PUBLIC
URL:http://www.rbb-online.de/content/rbb/rbb/zibb/themen/wunschzeit/eine-nacht-in-der-baeckerei.html
DTEND:20131220T192500
DTSTART:20131220T183000
UID:/content/rbb/rbb/zibb/themen/wunschzeit/eine-nacht-in-der-baeckerei
DTSTAMP:20140406T230533
DESCRIPTION:Ingrid Siebert aus Brandenburg an der Havel hegt seit langem einen Wunsch: sie möchte einmal mitten in der Nacht in einer Bäckerei mitarbeiten. Grund genug für ihre Freunde und Verwandten, sich damit an die zibb-Wunschzeit zu wenden und den Traum wahr werden zu lassen.\n
SUMMARY:Eine Nacht in der Bäckerei
END:VEVENT
END:VCALENDAR
