BEGIN:VCALENDAR
X-WR-TIMEZONE:Europe/Berlin
X-WR-CALNAME:rbb-Kalender
VERSION:2.0
METHOD:PUBLISH
CALSCALE:GREGORIAN
PRODID:rbb-CMS DAY
BEGIN:VEVENT
CLASS:PUBLIC
URL:http://www.rbb-online.de/content/rbb/rbb/zibb/themen/wunschzeit/wunschzeit-drehorgel.html
DTEND:20131209T192500
DTSTART:20131209T183000
UID:/content/rbb/rbb/zibb/themen/wunschzeit/wunschzeit-drehorgel
DTSTAMP:20140406T225548
DESCRIPTION:Volker Westhoff aus Treptow ist 58 Jahre alt und opfert sich schon seit Jahren liebevoll auf, um seine im Rollstuhl sitzende Schwiegermutter zu pflegen, obwohl er auch selbst nicht gesund ist. Er ist großer Drehorgel-Fan! Immer dabei, wenn das Drehorgelfest in Berlin stattfindet.\n\n\n
SUMMARY:Glücklich an der Drehorgel
END:VEVENT
END:VCALENDAR
