BEGIN:VCALENDAR
X-WR-TIMEZONE:Europe/Berlin
X-WR-CALNAME:rbb-Kalender
VERSION:2.0
METHOD:PUBLISH
CALSCALE:GREGORIAN
PRODID:rbb-CMS DAY
BEGIN:VEVENT
CLASS:PUBLIC
URL:http://www.rbb-online.de/content/rbb/rbb/zibb/themen/wunschzeit/wunschzeit-erdmaennchen.html
DTEND:20131211T192500
DTSTART:20131211T183000
UID:/content/rbb/rbb/zibb/themen/wunschzeit/wunschzeit-erdmaennchen
DTSTAMP:20140407T002039
DESCRIPTION:In der zibb-Wunschzeit haben wir diesmal Heiko Grigowski aus Hellersdorf geholfen, seine Ehefrau Monika glücklich zu machen. Seit ihrer Geburt hat sie schwere Skoliose. Mittlerweile kann die gelernte Uhrmacherin deswegen auch nicht mehr arbeiten.\n
SUMMARY:Einmal mit den Erdmännchen…
END:VEVENT
END:VCALENDAR
