BEGIN:VCALENDAR
X-WR-TIMEZONE:Europe/Berlin
X-WR-CALNAME:rbb-Kalender
VERSION:2.0
METHOD:PUBLISH
CALSCALE:GREGORIAN
PRODID:rbb-CMS DAY
BEGIN:VEVENT
CLASS:PUBLIC
URL:http://www.rbb-online.de/content/rbb/rbb/zibb/themen/wunschzeit/wunschzeit-herzenswuensche.html
DTEND:20131223T192600
DTSTART:20131223T183000
UID:/content/rbb/rbb/zibb/themen/wunschzeit/wunschzeit-herzenswuensche
DTSTAMP:20140406T232214
DESCRIPTION:Auch in diesem Jahr war unsere Wunschzeit wieder ein voller Erfolg. Insgesamt erreichten uns mehr als 500 Zuschriften. Weil wir von diesen vielen Herzenswünschen nur einen kleinen Teil erfüllen können, packen wir in die letzte Folge gleich mehrere Wünsche auf einmal.\n\n\n
SUMMARY:Ein bunter Teller Herzenswünsche
END:VEVENT
END:VCALENDAR
