BEGIN:VCALENDAR
X-WR-TIMEZONE:Europe/Berlin
X-WR-CALNAME:rbb-Kalender
VERSION:2.0
METHOD:PUBLISH
CALSCALE:GREGORIAN
PRODID:rbb-CMS DAY
BEGIN:VEVENT
CLASS:PUBLIC
URL:http://www.rbb-online.de/content/rbb/rbb/zibb/themen/wunschzeit/wunschzeit-kochen-angela.html
DTEND:20131202T192500
DTSTART:20131202T183000
UID:/content/rbb/rbb/zibb/themen/wunschzeit/wunschzeit-kochen-angela
DTSTAMP:20140406T225122
DESCRIPTION:Die 10-jährige Lia Prinz ist 2012 an Krebs erkrankt. Nach diversen Chemotherapien kann sie nun zum Glück wieder einige Stunden in die Schule gehen. Lia kocht für ihr Leben gern und hat die Familie sogar bekocht, als sie selbst nichts essen konnte und durfte.\n\n\n
SUMMARY:Kochen mit Angela 
END:VEVENT
END:VCALENDAR
