BEGIN:VCALENDAR
X-WR-TIMEZONE:Europe/Berlin
X-WR-CALNAME:rbb-Kalender
VERSION:2.0
METHOD:PUBLISH
CALSCALE:GREGORIAN
PRODID:rbb-CMS DAY
BEGIN:VEVENT
CLASS:PUBLIC
URL:http://www.rbb-online.de/content/rbb/rbb/zibb/vip/beitraege/AngelikaMann.html
DTEND:20130916T192500
DTSTART:20130916T183000
UID:/content/rbb/rbb/zibb/vip/beitraege/AngelikaMann
DTSTAMP:20140407T003447
DESCRIPTION:Das Projekt, mit der die umtriebigen Sängerin und Schauspielerin Angelika Mann derzeit in der Berliner Komödie am Kurfürstendamm gastiert, ist die Revue "Heiße Zeiten". Schon bei der Uraufführung in Essen war das Hormonical von Tilmann von Blomberg kultverdächtig.\n\n\n
SUMMARY:Angelika Mann
END:VEVENT
END:VCALENDAR
