BEGIN:VCALENDAR
X-WR-TIMEZONE:Europe/Berlin
X-WR-CALNAME:rbb-Kalender
VERSION:2.0
METHOD:PUBLISH
CALSCALE:GREGORIAN
PRODID:rbb-CMS DAY
BEGIN:VEVENT
CLASS:PUBLIC
URL:http://www.rbb-online.de/content/rbb/rbb/zibb/vip/beitraege/Bernhard_paul.html
DTEND:20131023T192500
DTSTART:20131023T183000
UID:/content/rbb/rbb/zibb/vip/beitraege/Bernhard_paul
DTSTAMP:20140407T002829
DESCRIPTION:Der Roncalli Weihnachtscircus feiert in diesem Jahr seinen 10. Geburtstag. 2003 war Gründer und Direktor Bernhard Paul mit vielen Kollegen und einem bunten Programm das erste Mal im Berliner Tempodrom zu Gast. Heute ist er bei zibb. \n\n\n
SUMMARY:Bernhard Paul 
END:VEVENT
END:VCALENDAR
