BEGIN:VCALENDAR
X-WR-TIMEZONE:Europe/Berlin
X-WR-CALNAME:rbb-Kalender
VERSION:2.0
METHOD:PUBLISH
CALSCALE:GREGORIAN
PRODID:rbb-CMS DAY
BEGIN:VEVENT
CLASS:PUBLIC
URL:http://www.rbb-online.de/content/rbb/rbb/zibb/vip/beitraege/Mathias-Richlimg-auf-der-zibb-couch.html
DTEND:20131014T192500
DTSTART:20131014T183000
UID:/content/rbb/rbb/zibb/vip/beitraege/Mathias-Richlimg-auf-der-zibb-couch
DTSTAMP:20140407T002433
DESCRIPTION:"Jetzt schlägts Richling" hieß Mathias Richlings erste Sendung im deutschen Fernsehen. Das war  bereits 1989. Weitere Sendungen folgten und er wurde bald Stammgast der ARD-Sendung "Scheibenwischer".\n\n\n
SUMMARY:Mathias Richling 
END:VEVENT
END:VCALENDAR
