BEGIN:VCALENDAR
X-WR-TIMEZONE:Europe/Berlin
X-WR-CALNAME:rbb-Kalender
VERSION:2.0
METHOD:PUBLISH
CALSCALE:GREGORIAN
PRODID:rbb-CMS DAY
BEGIN:VEVENT
CLASS:PUBLIC
URL:http://www.rbb-online.de/content/rbb/rbb/zibb/vip/beitraege/alin_coen.html
DTEND:20130625T183000
DTSTART:20130625T183000
UID:/content/rbb/rbb/zibb/vip/beitraege/alin_coen
DTSTAMP:20140407T000634
DESCRIPTION:Als eine Mischung aus Folk, Jazz und Pop - so lässt sich die Musik der Band "Alin Coen" in etwa beschreiben. Dazu kommt die prägnante Stimme der Singer-Songwriterin Alin Coen. Die Hamburgerin mit mexikanischen Wurzeln zog vor fünf Jahren sie nach Weimar, traf dort ihre heutigen Bandkollegen und seitdem machen sie gemeinsam Musik.\n
SUMMARY:Alin Coen
END:VEVENT
END:VCALENDAR
