BEGIN:VCALENDAR
X-WR-TIMEZONE:Europe/Berlin
X-WR-CALNAME:rbb-Kalender
VERSION:2.0
METHOD:PUBLISH
CALSCALE:GREGORIAN
PRODID:rbb-CMS DAY
BEGIN:VEVENT
CLASS:PUBLIC
URL:http://www.rbb-online.de/content/rbb/rbb/zibb/vip/beitraege/aljoscha_pause.html
DTEND:20130628T183000
DTSTART:20130628T183000
UID:/content/rbb/rbb/zibb/vip/beitraege/aljoscha_pause
DTSTAMP:20140407T000607
DESCRIPTION:Der Regisseur Aljoscha Pause beleuchtet in seinem Dokumentarfilm "Trainer!" den Werdegang von Fußballtrainern in Deutschland, von der Ausbildung zum einfachen Fußballlehrer bis zum Nationaltrainer.
SUMMARY:Aljoscha Pause
END:VEVENT
END:VCALENDAR
