BEGIN:VCALENDAR
X-WR-TIMEZONE:Europe/Berlin
X-WR-CALNAME:rbb-Kalender
VERSION:2.0
METHOD:PUBLISH
CALSCALE:GREGORIAN
PRODID:rbb-CMS DAY
BEGIN:VEVENT
CLASS:PUBLIC
URL:http://www.rbb-online.de/content/rbb/rbb/zibb/vip/beitraege/andreas_gabalier.html
DTEND:20130613T183000
DTSTART:20130613T183000
UID:/content/rbb/rbb/zibb/vip/beitraege/andreas_gabalier
DTSTAMP:20140406T235831
DESCRIPTION:Dieser Mann ist schon ein Phänomen: Andreas Gabalier studierte eigentlich Jura und bastelte nebenbei in seinem Kellerstudio an seiner Musik und das mit Erfolg.\n
SUMMARY:Andreas Gabalier
END:VEVENT
END:VCALENDAR
