BEGIN:VCALENDAR
X-WR-TIMEZONE:Europe/Berlin
X-WR-CALNAME:rbb-Kalender
VERSION:2.0
METHOD:PUBLISH
CALSCALE:GREGORIAN
PRODID:rbb-CMS DAY
BEGIN:VEVENT
CLASS:PUBLIC
URL:http://www.rbb-online.de/content/rbb/rbb/zibb/vip/beitraege/anna-r.html
DTEND:20130913T192500
DTSTART:20130913T183000
UID:/content/rbb/rbb/zibb/vip/beitraege/anna-r
DTSTAMP:20140406T220521
DESCRIPTION:20 Jahre lang kennt man die Berlinerin Anna R als Stimme von Rosenstolz. Peter hatte Anna die eingängigen Melodien und die sensiblen Texte auf den Leib geschrieben und Anna präsentierte sie unverwechselbar.\n\n\n
SUMMARY:Anna R und Gleis 8
END:VEVENT
END:VCALENDAR
