BEGIN:VCALENDAR
X-WR-TIMEZONE:Europe/Berlin
X-WR-CALNAME:rbb-Kalender
VERSION:2.0
METHOD:PUBLISH
CALSCALE:GREGORIAN
PRODID:rbb-CMS DAY
BEGIN:VEVENT
CLASS:PUBLIC
URL:http://www.rbb-online.de/content/rbb/rbb/zibb/vip/beitraege/benjamin_tomkins.html
DTEND:20130411T183000
DTSTART:20130411T183000
UID:/content/rbb/rbb/zibb/vip/beitraege/benjamin_tomkins
DTSTAMP:20140406T231242
DESCRIPTION:Benjamin Tomkins ist Puppenspieler und gewann unlängst den Deutschen Comedypreis. Aktuell ist er im BKA-Theater mit seinem Solo-Programm: "Früher war ich schizophren, aber heute sind wieder ok" zu sehen.
SUMMARY:Benjamin Tomkins
END:VEVENT
END:VCALENDAR
