BEGIN:VCALENDAR
X-WR-TIMEZONE:Europe/Berlin
X-WR-CALNAME:rbb-Kalender
VERSION:2.0
METHOD:PUBLISH
CALSCALE:GREGORIAN
PRODID:rbb-CMS DAY
BEGIN:VEVENT
CLASS:PUBLIC
URL:http://www.rbb-online.de/content/rbb/rbb/zibb/vip/beitraege/bosshoss.html
DTEND:20130927T192500
DTSTART:20130927T183000
UID:/content/rbb/rbb/zibb/vip/beitraege/bosshoss
DTSTAMP:20140406T220830
DESCRIPTION:Nach ihrer erneuten ECHO-Nominierung im letzten Frühjahr und dem Live-Comeback bei der vergangenen Festivalsaison melden sich die Berliner Country-Rocker nun mit der ersten Single aus ihrem neuen Album "Flames Of Fame" zurück.\n
SUMMARY:The BossHoss
END:VEVENT
END:VCALENDAR
