BEGIN:VCALENDAR
X-WR-TIMEZONE:Europe/Berlin
X-WR-CALNAME:rbb-Kalender
VERSION:2.0
METHOD:PUBLISH
CALSCALE:GREGORIAN
PRODID:rbb-CMS DAY
BEGIN:VEVENT
CLASS:PUBLIC
URL:http://www.rbb-online.de/content/rbb/rbb/zibb/vip/beitraege/charlotte-schwab-uwe-ochsenknecht.html
DTEND:20140226T192500
DTSTART:20140226T183000
UID:/content/rbb/rbb/zibb/vip/beitraege/charlotte-schwab-uwe-ochsenknecht
DTSTAMP:20140405T235755
DESCRIPTION:Die Schauspieler Charlotte Schwab und Uwe Ochsenknecht sind regelmäßige Gäste auf den deutschen Fernsehbildschirmen oder auf der Kinoleinwand. Mindestens genau so oft stehen sie aber auch auf der Theaterbühne. Beide spielen jetzt in dem neuen Stück "Schlechter Rat" im Theater am Kurfürstendamm.\n\n\n
SUMMARY:Charlotte Schwab und Uwe Ochsenknecht
END:VEVENT
END:VCALENDAR
