BEGIN:VCALENDAR
X-WR-TIMEZONE:Europe/Berlin
X-WR-CALNAME:rbb-Kalender
VERSION:2.0
METHOD:PUBLISH
CALSCALE:GREGORIAN
PRODID:rbb-CMS DAY
BEGIN:VEVENT
CLASS:PUBLIC
URL:http://www.rbb-online.de/content/rbb/rbb/zibb/vip/beitraege/chen-reiss.html
DTEND:20140228T192500
DTSTART:20140228T183000
UID:/content/rbb/rbb/zibb/vip/beitraege/chen-reiss
DTSTAMP:20140406T001936
DESCRIPTION:Sie ist schön, temperamentvoll und hat eine unglaubliche Stimme: Die israelische Sopranistin Chen Reiss hat schon in allen großen Konzerthäusern der Welt begeistert.\n
SUMMARY:Chen Reiss
END:VEVENT
END:VCALENDAR
