BEGIN:VCALENDAR
X-WR-TIMEZONE:Europe/Berlin
X-WR-CALNAME:rbb-Kalender
VERSION:2.0
METHOD:PUBLISH
CALSCALE:GREGORIAN
PRODID:rbb-CMS DAY
BEGIN:VEVENT
CLASS:PUBLIC
URL:http://www.rbb-online.de/content/rbb/rbb/zibb/vip/beitraege/chris-guse.html
DTEND:20130821T192500
DTSTART:20130821T183000
UID:/content/rbb/rbb/zibb/vip/beitraege/chris-guse
DTSTAMP:20140407T000956
DESCRIPTION:Was haben die Politiker Gregor Gysi, Andrea Nahles, Claudia Roth, Frank Steffel und Daniel Bahr gemeinsam? – sie alle treffen Chris Guse zu einem ganz besonderen Termin!\n\n\n
SUMMARY:Chris Guse
END:VEVENT
END:VCALENDAR
