BEGIN:VCALENDAR
X-WR-TIMEZONE:Europe/Berlin
X-WR-CALNAME:rbb-Kalender
VERSION:2.0
METHOD:PUBLISH
CALSCALE:GREGORIAN
PRODID:rbb-CMS DAY
BEGIN:VEVENT
CLASS:PUBLIC
URL:http://www.rbb-online.de/content/rbb/rbb/zibb/vip/beitraege/christoph-koch.html
DTEND:20131120T192500
DTSTART:20131120T183000
UID:/content/rbb/rbb/zibb/vip/beitraege/christoph-koch
DTSTAMP:20140406T000250
DESCRIPTION:Von 100 Befragten werden 99 auf die Frage, wie es Ihnen geht, antworten: "Es könnte besser sein." Auf die Frage, was ihnen zum Glück noch fehle, würden sie sofort eine Antwort haben. Doch macht mehr Geld oder gar ein Vollrausch wirklich glücklich? Christoph Koch ist dem jetzt nachgegangen und hat vieles zum Thema Glück selbst ausprobiert.\n\n\n
SUMMARY:Christoph Koch
END:VEVENT
END:VCALENDAR
