BEGIN:VCALENDAR
X-WR-TIMEZONE:Europe/Berlin
X-WR-CALNAME:rbb-Kalender
VERSION:2.0
METHOD:PUBLISH
CALSCALE:GREGORIAN
PRODID:rbb-CMS DAY
BEGIN:VEVENT
CLASS:PUBLIC
URL:http://www.rbb-online.de/content/rbb/rbb/zibb/vip/beitraege/corvus-corax.html
DTEND:20131203T192500
DTSTART:20131203T183000
UID:/content/rbb/rbb/zibb/vip/beitraege/corvus-corax
DTSTAMP:20140405T234730
DESCRIPTION:"Corvus Corax" ist eine Band der Mittelalterszene aus Deutschland, auch bekannt unter dem Namen "Könige der Spielleute". Die ostdeutsche Band wurde Ende 1989 gegründet, und baut ihre Instrumente wie Dudelsäcke und Schalmeien zum Großteil selbst. \n
SUMMARY:Corvus Corax
END:VEVENT
END:VCALENDAR
