BEGIN:VCALENDAR
X-WR-TIMEZONE:Europe/Berlin
X-WR-CALNAME:rbb-Kalender
VERSION:2.0
METHOD:PUBLISH
CALSCALE:GREGORIAN
PRODID:rbb-CMS DAY
BEGIN:VEVENT
CLASS:PUBLIC
URL:http://www.rbb-online.de/content/rbb/rbb/zibb/vip/beitraege/david-lama.html
DTEND:20140307T192500
DTSTART:20140307T183000
UID:/content/rbb/rbb/zibb/vip/beitraege/david-lama
DTSTAMP:20140405T235556
DESCRIPTION:David Lama hatte einen Traum. Er wollte als erster den Cerro Torre in Patagonien frei erklettern! Es ist einer der schönsten, aber auch schwierigsten Gipfel der Welt. Wer die steil aufragenden, glatten Granitwände des Berges sieht, muss das für ein aussichtsloses Unterfangen halten.\n
SUMMARY:Kletter-Ikone David Lama
END:VEVENT
END:VCALENDAR
