BEGIN:VCALENDAR
X-WR-TIMEZONE:Europe/Berlin
X-WR-CALNAME:rbb-Kalender
VERSION:2.0
METHOD:PUBLISH
CALSCALE:GREGORIAN
PRODID:rbb-CMS DAY
BEGIN:VEVENT
CLASS:PUBLIC
URL:http://www.rbb-online.de/content/rbb/rbb/zibb/vip/beitraege/dieter_birr.html
DTEND:20140404T192500
DTSTART:20140404T183000
UID:/content/rbb/rbb/zibb/vip/beitraege/dieter_birr
DTSTAMP:20140406T230341
DESCRIPTION:Er ist cool und kantig wie Keith Richards, dabei absolut bodenständig und hat so einiges erlebt: Dieter Birr, der Frontmann der Puhdys. Zum Geburtstag packt der Texter, Sänger und Gitarrist aus, erzählt von legendären Auftritten, verrückten Fans und markigen Kollegen.\n\n\n
SUMMARY:Dieter Birr
END:VEVENT
END:VCALENDAR
