BEGIN:VCALENDAR
X-WR-TIMEZONE:Europe/Berlin
X-WR-CALNAME:rbb-Kalender
VERSION:2.0
METHOD:PUBLISH
CALSCALE:GREGORIAN
PRODID:rbb-CMS DAY
BEGIN:VEVENT
CLASS:PUBLIC
URL:http://www.rbb-online.de/content/rbb/rbb/zibb/vip/beitraege/dirck-michaelis.html
DTEND:20131111T192500
DTSTART:20131111T183000
UID:/content/rbb/rbb/zibb/vip/beitraege/dirck-michaelis
DTSTAMP:20140405T234857
DESCRIPTION:Er war der Frontmann der DDR-Kultband "Karussell". Sechs Jahre feierten sie mit Hits wie "Als ich fort ging" große Erfolge. Kurz nach der Wende orientierte sich Dirk Michaelis neu und startete seine Solokarriere.\n\n\n
SUMMARY:Dirk Michaelis 
END:VEVENT
END:VCALENDAR
