BEGIN:VCALENDAR
X-WR-TIMEZONE:Europe/Berlin
X-WR-CALNAME:rbb-Kalender
VERSION:2.0
METHOD:PUBLISH
CALSCALE:GREGORIAN
PRODID:rbb-CMS DAY
BEGIN:VEVENT
CLASS:PUBLIC
URL:http://www.rbb-online.de/content/rbb/rbb/zibb/vip/beitraege/dirk-martens.html
DTEND:20140305T192500
DTSTART:20140305T183000
UID:/content/rbb/rbb/zibb/vip/beitraege/dirk-martens
DTSTAMP:20140405T234254
DESCRIPTION:Dirk Martens hat zwei Leben. In dem einen ist er Schauspieler, spielt in TV-Serien, Fernsehfilmen und Kinoproduktionen. Im anderen Leben betreibt Dirk Martens unter seinem Künstlernamen "Freddy Leck" einen ungewöhnlichen Waschsalon in Berlin. Bei zibb stellt er sein neues Buch vor.\n\n\n
SUMMARY:Dirk Martens
END:VEVENT
END:VCALENDAR
