BEGIN:VCALENDAR
X-WR-TIMEZONE:Europe/Berlin
X-WR-CALNAME:rbb-Kalender
VERSION:2.0
METHOD:PUBLISH
CALSCALE:GREGORIAN
PRODID:rbb-CMS DAY
BEGIN:VEVENT
CLASS:PUBLIC
URL:http://www.rbb-online.de/content/rbb/rbb/zibb/vip/beitraege/dj_bobo.html
DTEND:20140129T192500
DTSTART:20140129T183000
UID:/content/rbb/rbb/zibb/vip/beitraege/dj_bobo
DTSTAMP:20140406T000755
DESCRIPTION:Das neue Album von DJ Bobo heißt "Circus". Die "gigantischste Bobo-Show aller Zeiten" verspricht der Schweizer den Besuchern seiner Konzerte. Am Mittwoch verrät er in zibb, wie es zu der Riesen-Show kam.\n\n\n
SUMMARY:DJ Bobo 
END:VEVENT
END:VCALENDAR
