BEGIN:VCALENDAR
X-WR-TIMEZONE:Europe/Berlin
X-WR-CALNAME:rbb-Kalender
VERSION:2.0
METHOD:PUBLISH
CALSCALE:GREGORIAN
PRODID:rbb-CMS DAY
BEGIN:VEVENT
CLASS:PUBLIC
URL:http://www.rbb-online.de/content/rbb/rbb/zibb/vip/beitraege/fannstavjanik.html
DTEND:20130919T192500
DTSTART:20130919T183000
UID:/content/rbb/rbb/zibb/vip/beitraege/fannstavjanik
DTSTAMP:20140406T042049
DESCRIPTION:Was haben Produktionen wie zum Beispiel „Prinz und Paparazzi“,  „Traumschiff“, „Sissi“ und „Girlfriends“ gemeinsam? In allen sorgte Schauspielerin Fanny Stavjanik für Top-Quoten. Die gebürtige Wienerin startete ihre Karriere im Volkstheater ihrer Heimatstadt.\n\n\n\n\n
SUMMARY:Fanny Stavjanik
END:VEVENT
END:VCALENDAR
