BEGIN:VCALENDAR
X-WR-TIMEZONE:Europe/Berlin
X-WR-CALNAME:rbb-Kalender
VERSION:2.0
METHOD:PUBLISH
CALSCALE:GREGORIAN
PRODID:rbb-CMS DAY
BEGIN:VEVENT
CLASS:PUBLIC
URL:http://www.rbb-online.de/content/rbb/rbb/zibb/vip/beitraege/frida_gold.html
DTEND:20130620T183000
DTSTART:20130620T183000
UID:/content/rbb/rbb/zibb/vip/beitraege/frida_gold
DTSTAMP:20140406T235842
DESCRIPTION:Mit ihrem Debütalbum "Juwel" trat das Quartett Frida Gold aus Hattingen an, um Popmusik "internationaler" Größe in Deutschland zu zelebrieren. Auf der zibb-Couch stellen sie ihr aktuelles Album "Liebe ist meine Religion" vor.\n
SUMMARY:Frida Gold
END:VEVENT
END:VCALENDAR
