BEGIN:VCALENDAR
X-WR-TIMEZONE:Europe/Berlin
X-WR-CALNAME:rbb-Kalender
VERSION:2.0
METHOD:PUBLISH
CALSCALE:GREGORIAN
PRODID:rbb-CMS DAY
BEGIN:VEVENT
CLASS:PUBLIC
URL:http://www.rbb-online.de/content/rbb/rbb/zibb/vip/beitraege/gabor-boldocki.html
DTEND:20131210T192500
DTSTART:20131210T183000
UID:/content/rbb/rbb/zibb/vip/beitraege/gabor-boldocki
DTSTAMP:20140406T002428
DESCRIPTION:Seinen ersten Trompetenwettbewerb gewann Gábor Boldoczki bereits im Alter von 14 Jahren. Danach startete er seine erfolgreiche Solokarriere. Am Dienstag war der Musiker zu Gast bei zibb.\n\n\n
SUMMARY:Zu Gast: Gábor Boldoczki	
END:VEVENT
END:VCALENDAR
