BEGIN:VCALENDAR
X-WR-TIMEZONE:Europe/Berlin
X-WR-CALNAME:rbb-Kalender
VERSION:2.0
METHOD:PUBLISH
CALSCALE:GREGORIAN
PRODID:rbb-CMS DAY
BEGIN:VEVENT
CLASS:PUBLIC
URL:http://www.rbb-online.de/content/rbb/rbb/zibb/vip/beitraege/gast-konrad-stoeckl.html
DTEND:20131114T192500
DTSTART:20131114T183000
UID:/content/rbb/rbb/zibb/vip/beitraege/gast-konrad-stoeckl
DTSTAMP:20140405T234209
DESCRIPTION:Mit einer Kombination aus Comedy, bizarren Effekten und Zaubertricks entwickelte der Wissenschaftsexperte und TV-Comedian Konrad Stöckel über die Jahre seinen ganz eigenen Unterhaltungsstil. Am Donnerstag war er zu Gast bei zibb.\n\n\n
SUMMARY:Zu Gast: Konrad Stöckel
END:VEVENT
END:VCALENDAR
