BEGIN:VCALENDAR
X-WR-TIMEZONE:Europe/Berlin
X-WR-CALNAME:rbb-Kalender
VERSION:2.0
METHOD:PUBLISH
CALSCALE:GREGORIAN
PRODID:rbb-CMS DAY
BEGIN:VEVENT
CLASS:PUBLIC
URL:http://www.rbb-online.de/content/rbb/rbb/zibb/vip/beitraege/gast_attila_weidemann.html
DTEND:20140327T192500
DTSTART:20140327T183000
UID:/content/rbb/rbb/zibb/vip/beitraege/gast_attila_weidemann
DTSTAMP:20140406T002501
DESCRIPTION:Es lebe die Schwalbe! Attila Weidemann wurde im ORB-Fernsehen als rasender Reporter bekannt. Auf dem DDR-Roller war er aber nicht nur professionell unterwegs. Auch privat kann er sich nicht von dem Gefährt trennen.\n
SUMMARY:Attila Weidemann                            
END:VEVENT
END:VCALENDAR
