BEGIN:VCALENDAR
X-WR-TIMEZONE:Europe/Berlin
X-WR-CALNAME:rbb-Kalender
VERSION:2.0
METHOD:PUBLISH
CALSCALE:GREGORIAN
PRODID:rbb-CMS DAY
BEGIN:VEVENT
CLASS:PUBLIC
URL:http://www.rbb-online.de/content/rbb/rbb/zibb/vip/beitraege/hans_werner_meyer.html
DTEND:20130703T183000
DTSTART:20130703T183000
UID:/content/rbb/rbb/zibb/vip/beitraege/hans_werner_meyer
DTSTAMP:20140407T000456
DESCRIPTION:Der Schauspieler Hans Werner Meyer wurde 1992 von Joseph Vilsmaier für den Film "Charlie & Luise - das doppelte Lottchen" entdeckt.
SUMMARY:Hans-Werner Meyer
END:VEVENT
END:VCALENDAR
