BEGIN:VCALENDAR
X-WR-TIMEZONE:Europe/Berlin
X-WR-CALNAME:rbb-Kalender
VERSION:2.0
METHOD:PUBLISH
CALSCALE:GREGORIAN
PRODID:rbb-CMS DAY
BEGIN:VEVENT
CLASS:PUBLIC
URL:http://www.rbb-online.de/content/rbb/rbb/zibb/vip/beitraege/ingridsteeger.html
DTEND:20131122T192500
DTSTART:20131122T183000
UID:/content/rbb/rbb/zibb/vip/beitraege/ingridsteeger
DTSTAMP:20140406T000857
DESCRIPTION:"Und find es wunderbar-" ist der Titel von Ingrid Steegers Buch über ihr Leben. Die Ulknudel, Blondine der Nation und Sexsymbol, die mit „Klimbim“ berühmt wurde, mächtige Männer faszinierte und dennoch immer vergeblich auf der Suche nach Glück und Geborgenheit war.\n\n\n
SUMMARY:Zu Gast: Ingrid Steeger
END:VEVENT
END:VCALENDAR
