BEGIN:VCALENDAR
X-WR-TIMEZONE:Europe/Berlin
X-WR-CALNAME:rbb-Kalender
VERSION:2.0
METHOD:PUBLISH
CALSCALE:GREGORIAN
PRODID:rbb-CMS DAY
BEGIN:VEVENT
CLASS:PUBLIC
URL:http://www.rbb-online.de/content/rbb/rbb/zibb/vip/beitraege/jeannette-biedermann.html
DTEND:20131010T192500
DTSTART:20131010T183000
UID:/content/rbb/rbb/zibb/vip/beitraege/jeannette-biedermann
DTSTAMP:20140406T220201
DESCRIPTION:Bisher betrat Jeanette Biedermann die Bühne nur zum Singen. Jetzt gibt die 32-jährige ihr Debüt als Theaterschauspielerin. Im Oktober ist sie bei den "Jedermann"-Festspielen im Berliner Dom als Buhlschaft zu sehen. Über ihre Rolle spricht sie auf der zibb-Couch.\n\n\n
SUMMARY:Jeannette Biedermann
END:VEVENT
END:VCALENDAR
