BEGIN:VCALENDAR
X-WR-TIMEZONE:Europe/Berlin
X-WR-CALNAME:rbb-Kalender
VERSION:2.0
METHOD:PUBLISH
CALSCALE:GREGORIAN
PRODID:rbb-CMS DAY
BEGIN:VEVENT
CLASS:PUBLIC
URL:http://www.rbb-online.de/content/rbb/rbb/zibb/vip/beitraege/jochen-kowalski.html
DTEND:20140113T192500
DTSTART:20140113T183000
UID:/content/rbb/rbb/zibb/vip/beitraege/jochen-kowalski
DTSTAMP:20140405T235842
DESCRIPTION:Vor allem mit seinen Händel-Interpretationen genoss der Kammersänger Jochen Kowalski als einer der wenigen darstellenden Künstler der DDR große Achtung in der Bundesrepublik. Kurz vor seinem 60. Geburtstag ist er zu Gast bei zibb.\n\n\n\n\n
SUMMARY:Jochen Kowalski 
END:VEVENT
END:VCALENDAR
